BEGIN:VCALENDAR
VERSION:2.0
PRODID:-//First Up - ECPv6.15.14//NONSGML v1.0//EN
CALSCALE:GREGORIAN
METHOD:PUBLISH
X-WR-CALNAME:First Up
X-ORIGINAL-URL:https://www.firstup.org
X-WR-CALDESC:Events for First Up
REFRESH-INTERVAL;VALUE=DURATION:PT1H
X-Robots-Tag:noindex
X-PUBLISHED-TTL:PT1H
BEGIN:VTIMEZONE
TZID:America/New_York
BEGIN:DAYLIGHT
TZOFFSETFROM:-0500
TZOFFSETTO:-0400
TZNAME:EDT
DTSTART:20250309T070000
END:DAYLIGHT
BEGIN:STANDARD
TZOFFSETFROM:-0400
TZOFFSETTO:-0500
TZNAME:EST
DTSTART:20251102T060000
END:STANDARD
BEGIN:DAYLIGHT
TZOFFSETFROM:-0500
TZOFFSETTO:-0400
TZNAME:EDT
DTSTART:20260308T070000
END:DAYLIGHT
BEGIN:STANDARD
TZOFFSETFROM:-0400
TZOFFSETTO:-0500
TZNAME:EST
DTSTART:20261101T060000
END:STANDARD
BEGIN:DAYLIGHT
TZOFFSETFROM:-0500
TZOFFSETTO:-0400
TZNAME:EDT
DTSTART:20270314T070000
END:DAYLIGHT
BEGIN:STANDARD
TZOFFSETFROM:-0400
TZOFFSETTO:-0500
TZNAME:EST
DTSTART:20271107T060000
END:STANDARD
END:VTIMEZONE
BEGIN:VEVENT
DTSTART;TZID=America/New_York:20260428T123000
DTEND;TZID=America/New_York:20260428T143000
DTSTAMP:20260422T050846
CREATED:20251205T200951Z
LAST-MODIFIED:20260121T220518Z
UID:2472-1777379400-1777386600@www.firstup.org
SUMMARY:Southeastern PA Early Childhood Coalition (SEPECC) Meeting - April 2026
DESCRIPTION:The Southeastern Pennsylvania Early Childhood Coalition (SEPECC) is a group of organizations united in providing high-quality early childhood services to all families. Members include individuals from child care centers\, family child care programs\, advocacy groups\, training agencies\, early care support agencies\, and funders working together to coordinate advocacy efforts and strengthen public support for early care and education. Join us on our monthly meeting to hear the latest news\, opportunities\, and updates! \nVirtual / Registration Here
URL:https://www.firstup.org/event/southeastern-pa-early-childhood-coalition-sepecc-meeting-april-2026/
CATEGORIES:Events for Everyone
ATTACH;FMTTYPE=image/png:https://www.firstup.org/wp-content/uploads/2025/12/NavyRibbon.png
END:VEVENT
END:VCALENDAR